Workbook

Sheet Inicio
B16: SECCIONES DE VIOLENCIA SOBRE LA MUJER DEL TRIBUNAL DE INSTANCIA
B18: Denuncias
B19: Renuncias
B20: Víctimas
B21: Movimiento de Asuntos
B22: Delitos
B23: Órdenes y Medidas
B24: Personas Enjuiciadas
B25: Forma de Terinación Procedimientos Violencia Sexual
B27: Secc. de lo Penal del T.I. / Procesos de Violencia Sexual / Movimiento de Asuntos
B28: Secc. de lo Penal del T.I. / Procesos de Violencia Sexual / Personas Enjuiciadas
B29: Secc. de lo Penal del T.I. / Procesos de Violencia Sexual / Sentencias
... B33: Audiencia Provincial / Procesos de Violencia Sexual / Sentencias

Sheet Denuncias
C8: 2º trimestre 2026
C9: Denuncias recibidas | D9: Presentada directamente por victima en el juzgado | E9: Presentada directamente por familiares | F9: Atestados policiales | I9: Parte de lesiones recibido directamente en el juzgado | J9: Servicios asistencia-Terceros en general
F10: con denuncia victima | G10: con denuncia familiar | H10: por intervención directa policial
B11: Andalucía | C11: 521 | D11: 0 | E11: 0 | F11: 481 | G11: 3 | H11: 15 | I11: 21 | J11: 1
B12: Aragón | C12: 80 | D12: 2 | E12: 0 | F12: 59 | G12: 1 | H12: 8 | I12: 2 | J12: 8
B13: Asturias | C13: 52 | D13: 0 | E13: 0 | F13: 41 | G13: 1 | H13: 0 | I13: 7 | J13: 3
B14: Illes Balears | C14: 168 | D14: 0 | E14: 2 | F14: 143 | G14: 9 | H14: 4 | I14: 5 | J14: 5
B15: Canarias | C15: 291 | D15: 6 | E15: 0 | F15: 212 | G15: 3 | H15: 29 | I15: 31 | J15: 10
B16: Cantabria | C16: 17 | D16: 0 | E16: 0 | F16: 17 | G16: 0 | H16: 0 | I16: 0 | J16: 0
B17: Castilla y León | C17: 110 | D17: 3 | E17: 0 | F17: 102 | G17: 2 | H17: 1 | I17: 2 | J17: 0
B18: Castilla-La Mancha | C18: 85 | D18: 0 | E18: 0 | F18: 73 | G18: 10 | H18: 0 | I18: 1 | J18: 1
B19: Cataluña | C19: 744 | D19: 3 | E19: 1 | F19: 613 | G19: 3 | H19: 64 | I19: 59 | J19: 1
B20: Comunitat Valenciana | C20: 468 | D20: 4 | E20: 0 | F20: 410 | G20: 2 | H20: 15 | I20: 33 | J20: 4
B21: Extremadura | C21: 49 | D21: 0 | E21: 0 | F21: 45 | G21: 0 | H21: 0 | I21: 4 | J21: 0
B22: Galicia | C22: 214 | D22: 1 | E22: 1 | F22: 162 | G22: 9 | H22: 17 | I22: 19 | J22: 5
... B27: La Rioja | C27: 16 | D27: 0 | E27: 0 | F27: 8 | G27: 0 | H27: 8 | I27: 0 | J27: 0
B28: España | C28: =SUM(C11:C27) -> 3962 | D28: =SUM(D11:D27) -> 37 | E28: =SUM(E11:E27) -> 4 | F28: =SUM(F11:F27) -> 3276 | G28: =SUM(G11:G27) -> 52 | H28: =SUM(H11:H27) -> 217 | I28: =SUM(I11:I27) -> 331 | J28: =SUM(J11:J27) -> 45

Sheet Renuncias
C8: 2º trimestre 2026
C9: Casos en los que la victima se acoge a la dispensa a la obligación de declarar como testigo | D9: Renuncias por españolas | E9: Renuncias por extranjeras | F9: Ratio Casos en los que la victima se acoge a la dispensa a la obligación de declarar como testigo sobre denuncias
C10: Total | D10: Por españolas | E10: Por extranjeras
B11: Andalucía | C11: 25 | D11: 20 | E11: 5 | F11: =+C11/Denuncias!C11 -> 0.047984645
B12: Aragón | C12: 7 | D12: 1 | E12: 6 | F12: =+C12/Denuncias!C12 -> 0.0875
B13: Asturias | C13: 9 | D13: 6 | E13: 3 | F13: =+C13/Denuncias!C13 -> 0.17307692
B14: Illes Balears | C14: 14 | D14: 7 | E14: 7 | F14: =+C14/Denuncias!C14 -> 0.083333333
B15: Canarias | C15: 7 | D15: 4 | E15: 3 | F15: =+C15/Denuncias!C15 -> 0.024054983
B16: Cantabria | C16: 0 | D16: 0 | E16: 0 | F16: =+C16/Denuncias!C16 -> 0
B17: Castilla y León | C17: 5 | D17: 2 | E17: 3 | F17: =+C17/Denuncias!C17 -> 0.045454545
B18: Castilla-La Mancha | C18: 7 | D18: 3 | E18: 4 | F18: =+C18/Denuncias!C18 -> 0.082352941
B19: Cataluña | C19: 56 | D19: 25 | E19: 31 | F19: =+C19/Denuncias!C19 -> 0.075268817
B20: Comunitat Valenciana | C20: 39 | D20: 18 | E20: 21 | F20: =+C20/Denuncias!C20 -> 0.083333333
B21: Extremadura | C21: 4 | D21: 4 | E21: 0 | F21: =+C21/Denuncias!C21 -> 0.081632653
B22: Galicia | C22: 9 | D22: 5 | E22: 4 | F22: =+C22/Denuncias!C22 -> 0.042056075
... B27: La Rioja | C27: 1 | D27: 0 | E27: 1 | F27: =+C27/Denuncias!C27 -> 0.0625
B28: España | C28: =SUM(C11:C27) -> 249 | D28: =SUM(D11:D27) -> 128 | E28: =SUM(E11:E27) -> 121 | F28: =+C28/Denuncias!C28 -> 0.062847047

Sheet Víctimas
C9: 2º trimestre 2026
C10: Mujeres víctimas de violencia Sexual | D10: Víctimas Españolas | E10: Víctimas Extranjeras
B11: Andalucía | C11: 521 | D11: 395 | E11: 126
B12: Aragón | C12: 80 | D12: 45 | E12: 35
B13: Asturias | C13: 52 | D13: 34 | E13: 18
B14: Illes Balears | C14: 168 | D14: 88 | E14: 80
B15: Canarias | C15: 291 | D15: 206 | E15: 85
B16: Cantabria | C16: 17 | D16: 11 | E16: 6
B17: Castilla y León | C17: 110 | D17: 80 | E17: 30
B18: Castilla-La Mancha | C18: 85 | D18: 51 | E18: 34
B19: Cataluña | C19: 744 | D19: 382 | E19: 362
B20: Comunitat Valenciana | C20: 468 | D20: 237 | E20: 231
B21: Extremadura | C21: 49 | D21: 46 | E21: 3
B22: Galicia | C22: 215 | D22: 171 | E22: 44
... B27: La Rioja | C27: 16 | D27: 8 | E27: 8
B28: España | C28: =SUM(C11:C27) -> 3967 | D28: =SUM(D11:D27) -> 2390 | E28: =SUM(E11:E27) -> 1577

Sheet Movimiento
C9: ASUNTOS PENALES. Por tipos de procesos | I9: Diligencias Urgentes | O9: Sumarios | U9: Diligencias previas | AA9: Procedimientos abreviados | AG9: Juicios sobre Delitos Leves | AM9: Procesos por Aceptación de Decreto | AS9: Ley Orgánica 5/95 Jurado
C10: Ingresados Directamente | D10: Ingresados procedentes de otros órganos | F10: Reabiertos | G10: Resueltos | H10: Pendientes al finalizar | I10: Ingresados Directamente | J10: Ingresados procedentes de otros órganos | L10: Reabiertos | M10: Resueltos | N10: Pendientes al finalizar | O10: Ingresados Directamente | P10: Ingresados procedentes de otros órganos | R10: Reabiertos | S10: Resueltos | T10: Pendientes al finalizar | U10: Ingresados Directamente | V10: Ingresados procedentes de otros órganos | X10: Reabiertos | Y10: Resueltos | Z10: Pendientes al finalizar | AA10: Ingresados Directamente | AB10: Ingresados procedentes de otros órganos | AD10: Reabiertos | AE10: Resueltos | AF10: Pendientes al finalizar | AG10: Ingresados Directamente | AH10: Ingresados procedentes de otros órganos | AJ10: Reabiertos | AK10: Resueltos | AL10: Pendientes al finalizar | AM10: Ingresados Directamente | AN10: Ingresados procedentes de otros órganos | AP10: Reabiertos | AQ10: Resueltos | AR10: Pendientes al finalizar | AS10: Ingresados Directamente | AT10: Ingresados procedentes de otros órganos | AV10: Reabiertos | AW10: Resueltos | AX10: Pendientes al finalizar
D11: Secc.del T.I. Guardia | E11: Otras Secc. VM del T.I. | J11: Secc.del T.I. Guardia | K11: Otras Secc. VM del T.I. | P11: Secc.del T.I. Guardia | Q11: Otras Secc. VM del T.I. | V11: Secc.del T.I. Guardia | W11: Otras Secc. VM del T.I. | AB11: Secc.del T.I. Guardia | AC11: Otras Secc. VM del T.I. | AH11: Secc.del T.I. Guardia | AI11: Otras Secc. VM del T.I. | AN11: Secc.del T.I. Guardia | AO11: Otras Secc. VM del T.I. | AT11: Secc.del T.I. Guardia | AU11: Otras Secc. VM del T.I.
B12: Andalucía | C12: 519 | D12: 56 | E12: 5 | F12: 7 | G12: 418 | H12: 595 | I12: 31 | J12: 0 | K12: 0 | L12: 0 | M12: 30 | N12: 4 | O12: 6 | P12: 0 | Q12: 0 | R12: 0 | S12: 3 | T12: 11 | U12: 442 | V12: 56 | W12: 5 | X12: 6 | Y12: 358 | Z12: 543 | AA12: 35 | AB12: 0 | AC12: 0 | AD12: 1 | AE12: 24 | AF12: 35 | AG12: 5 | AH12: 0 | AI12: 0 | AJ12: 0 | AK12: 3 | AL12: 2 | AM12: 0 | AN12: 0 | AO12: 0 | AP12: 0 | AQ12: 0 | AR12: 0 | AS12: 0 | AT12: 0 | AU12: 0 | AV12: 0 | AW12: 0 | AX12: 0
B13: Aragón | C13: 92 | D13: 1 | E13: 0 | F13: 0 | G13: 84 | H13: 51 | I13: 1 | J13: 0 | K13: 0 | L13: 0 | M13: 2 | N13: 0 | O13: 4 | P13: 0 | Q13: 0 | R13: 0 | S13: 0 | T13: 6 | U13: 79 | V13: 1 | W13: 0 | X13: 0 | Y13: 75 | Z13: 41 | AA13: 7 | AB13: 0 | AC13: 0 | AD13: 0 | AE13: 7 | AF13: 3 | AG13: 1 | AH13: 0 | AI13: 0 | AJ13: 0 | AK13: 0 | AL13: 1 | AM13: 0 | AN13: 0 | AO13: 0 | AP13: 0 | AQ13: 0 | AR13: 0 | AS13: 0 | AT13: 0 | AU13: 0 | AV13: 0 | AW13: 0 | AX13: 0
B14: Asturias | C14: 39 | D14: 14 | E14: 0 | F14: 0 | G14: 43 | H14: 64 | I14: 0 | J14: 0 | K14: 0 | L14: 0 | M14: 0 | N14: 0 | O14: 0 | P14: 0 | Q14: 0 | R14: 0 | S14: 0 | T14: 2 | U14: 38 | V14: 14 | W14: 0 | X14: 0 | Y14: 42 | Z14: 60 | AA14: 1 | AB14: 0 | AC14: 0 | AD14: 0 | AE14: 1 | AF14: 2 | AG14: 0 | AH14: 0 | AI14: 0 | AJ14: 0 | AK14: 0 | AL14: 0 | AM14: 0 | AN14: 0 | AO14: 0 | AP14: 0 | AQ14: 0 | AR14: 0 | AS14: 0 | AT14: 0 | AU14: 0 | AV14: 0 | AW14: 0 | AX14: 0
B15: Illes Balears | C15: 176 | D15: 12 | E15: 2 | F15: 0 | G15: 101 | H15: 229 | I15: 11 | J15: 0 | K15: 0 | L15: 0 | M15: 10 | N15: 1 | O15: 8 | P15: 1 | Q15: 0 | R15: 0 | S15: 0 | T15: 14 | U15: 151 | V15: 10 | W15: 2 | X15: 0 | Y15: 85 | Z15: 213 | AA15: 2 | AB15: 0 | AC15: 0 | AD15: 0 | AE15: 2 | AF15: 0 | AG15: 4 | AH15: 1 | AI15: 0 | AJ15: 0 | AK15: 4 | AL15: 1 | AM15: 0 | AN15: 0 | AO15: 0 | AP15: 0 | AQ15: 0 | AR15: 0 | AS15: 0 | AT15: 0 | AU15: 0 | AV15: 0 | AW15: 0 | AX15: 0
B16: Canarias | C16: 260 | D16: 40 | E16: 48 | F16: 0 | G16: 241 | H16: 249 | I16: 6 | J16: 0 | K16: 0 | L16: 0 | M16: 6 | N16: 0 | O16: 2 | P16: 1 | Q16: 1 | R16: 0 | S16: 1 | T16: 5 | U16: 244 | V16: 39 | W16: 47 | X16: 0 | Y16: 227 | Z16: 239 | AA16: 5 | AB16: 0 | AC16: 0 | AD16: 0 | AE16: 4 | AF16: 5 | AG16: 3 | AH16: 0 | AI16: 0 | AJ16: 0 | AK16: 3 | AL16: 0 | AM16: 0 | AN16: 0 | AO16: 0 | AP16: 0 | AQ16: 0 | AR16: 0 | AS16: 0 | AT16: 0 | AU16: 0 | AV16: 0 | AW16: 0 | AX16: 0
B17: Cantabria | C17: 18 | D17: 0 | E17: 0 | F17: 0 | G17: 13 | H17: 23 | I17: 0 | J17: 0 | K17: 0 | L17: 0 | M17: 0 | N17: 0 | O17: 0 | P17: 0 | Q17: 0 | R17: 0 | S17: 0 | T17: 0 | U17: 17 | V17: 0 | W17: 0 | X17: 0 | Y17: 13 | Z17: 21 | AA17: 1 | AB17: 0 | AC17: 0 | AD17: 0 | AE17: 0 | AF17: 2 | AG17: 0 | AH17: 0 | AI17: 0 | AJ17: 0 | AK17: 0 | AL17: 0 | AM17: 0 | AN17: 0 | AO17: 0 | AP17: 0 | AQ17: 0 | AR17: 0 | AS17: 0 | AT17: 0 | AU17: 0 | AV17: 0 | AW17: 0 | AX17: 0
B18: Castilla y León | C18: 113 | D18: 7 | E18: 0 | F18: 5 | G18: 130 | H18: 171 | I18: 14 | J18: 0 | K18: 0 | L18: 0 | M18: 15 | N18: 2 | O18: 4 | P18: 0 | Q18: 0 | R18: 5 | S18: 6 | T18: 11 | U18: 85 | V18: 7 | W18: 0 | X18: 0 | Y18: 99 | Z18: 148 | AA18: 8 | AB18: 0 | AC18: 0 | AD18: 0 | AE18: 8 | AF18: 10 | AG18: 2 | AH18: 0 | AI18: 0 | AJ18: 0 | AK18: 2 | AL18: 0 | AM18: 0 | AN18: 0 | AO18: 0 | AP18: 0 | AQ18: 0 | AR18: 0 | AS18: 0 | AT18: 0 | AU18: 0 | AV18: 0 | AW18: 0 | AX18: 0
B19: Castilla-La Mancha | C19: 93 | D19: 4 | E19: 3 | F19: 0 | G19: 57 | H19: 186 | I19: 6 | J19: 0 | K19: 0 | L19: 0 | M19: 8 | N19: 0 | O19: 0 | P19: 0 | Q19: 0 | R19: 0 | S19: 0 | T19: 4 | U19: 76 | V19: 4 | W19: 3 | X19: 0 | Y19: 44 | Z19: 174 | AA19: 10 | AB19: 0 | AC19: 0 | AD19: 0 | AE19: 4 | AF19: 7 | AG19: 1 | AH19: 0 | AI19: 0 | AJ19: 0 | AK19: 1 | AL19: 1 | AM19: 0 | AN19: 0 | AO19: 0 | AP19: 0 | AQ19: 0 | AR19: 0 | AS19: 0 | AT19: 0 | AU19: 0 | AV19: 0 | AW19: 0 | AX19: 0
B20: Cataluña | C20: 814 | D20: 38 | E20: 26 | F20: 7 | G20: 492 | H20: 1098 | I20: 34 | J20: 0 | K20: 0 | L20: 0 | M20: 31 | N20: 4 | O20: 55 | P20: 0 | Q20: 0 | R20: 0 | S20: 13 | T20: 91 | U20: 664 | V20: 38 | W20: 26 | X20: 7 | Y20: 413 | Z20: 918 | AA20: 59 | AB20: 0 | AC20: 0 | AD20: 0 | AE20: 28 | AF20: 82 | AG20: 2 | AH20: 0 | AI20: 0 | AJ20: 0 | AK20: 7 | AL20: 3 | AM20: 0 | AN20: 0 | AO20: 0 | AP20: 0 | AQ20: 0 | AR20: 0 | AS20: 0 | AT20: 0 | AU20: 0 | AV20: 0 | AW20: 0 | AX20: 0
B21: Comunitat Valenciana | C21: 478 | D21: 28 | E21: 3 | F21: 0 | G21: 339 | H21: 512 | I21: 15 | J21: 1 | K21: 1 | L21: 0 | M21: 17 | N21: 1 | O21: 15 | P21: 0 | Q21: 0 | R21: 0 | S21: 4 | T21: 28 | U21: 413 | V21: 26 | W21: 2 | X21: 0 | Y21: 299 | Z21: 455 | AA21: 26 | AB21: 0 | AC21: 0 | AD21: 0 | AE21: 13 | AF21: 19 | AG21: 9 | AH21: 1 | AI21: 0 | AJ21: 0 | AK21: 6 | AL21: 9 | AM21: 0 | AN21: 0 | AO21: 0 | AP21: 0 | AQ21: 0 | AR21: 0 | AS21: 0 | AT21: 0 | AU21: 0 | AV21: 0 | AW21: 0 | AX21: 0
B22: Extremadura | C22: 57 | D22: 8 | E22: 0 | F22: 0 | G22: 41 | H22: 62 | I22: 7 | J22: 0 | K22: 0 | L22: 0 | M22: 7 | N22: 0 | O22: 0 | P22: 0 | Q22: 0 | R22: 0 | S22: 0 | T22: 1 | U22: 47 | V22: 8 | W22: 0 | X22: 0 | Y22: 29 | Z22: 61 | AA22: 3 | AB22: 0 | AC22: 0 | AD22: 0 | AE22: 4 | AF22: 0 | AG22: 0 | AH22: 0 | AI22: 0 | AJ22: 0 | AK22: 1 | AL22: 0 | AM22: 0 | AN22: 0 | AO22: 0 | AP22: 0 | AQ22: 0 | AR22: 0 | AS22: 0 | AT22: 0 | AU22: 0 | AV22: 0 | AW22: 0 | AX22: 0
B23: Galicia | C23: 208 | D23: 38 | E23: 6 | F23: 0 | G23: 137 | H23: 270 | I23: 6 | J23: 1 | K23: 0 | L23: 0 | M23: 8 | N23: 0 | O23: 6 | P23: 0 | Q23: 0 | R23: 0 | S23: 4 | T23: 9 | U23: 182 | V23: 37 | W23: 6 | X23: 0 | Y23: 117 | Z23: 254 | AA23: 12 | AB23: 0 | AC23: 0 | AD23: 0 | AE23: 7 | AF23: 6 | AG23: 2 | AH23: 0 | AI23: 0 | AJ23: 0 | AK23: 1 | AL23: 1 | AM23: 0 | AN23: 0 | AO23: 0 | AP23: 0 | AQ23: 0 | AR23: 0 | AS23: 0 | AT23: 0 | AU23: 0 | AV23: 0 | AW23: 0 | AX23: 0
... B28: La Rioja | C28: 18 | D28: 5 | E28: 1 | F28: 0 | G28: 5 | H28: 59 | I28: 2 | J28: 0 | K28: 0 | L28: 0 | M28: 2 | N28: 0 | O28: 0 | P28: 0 | Q28: 0 | R28: 0 | S28: 0 | T28: 0 | U28: 13 | V28: 5 | W28: 1 | X28: 0 | Y28: 2 | Z28: 57 | AA28: 2 | AB28: 0 | AC28: 0 | AD28: 0 | AE28: 1 | AF28: 1 | AG28: 1 | AH28: 0 | AI28: 0 | AJ28: 0 | AK28: 0 | AL28: 1 | AM28: 0 | AN28: 0 | AO28: 0 | AP28: 0 | AQ28: 0 | AR28: 0 | AS28: 0 | AT28: 0 | AU28: 0 | AV28: 0 | AW28: 0 | AX28: 0
B29: España | C29: =SUM(C12:C28) -> 4118 | D29: =SUM(D12:D28) -> 327 | E29: =SUM(E12:E28) -> 150 | F29: =SUM(F12:F28) -> 33 | G29: =SUM(G12:G28) -> 3073 | H29: =SUM(H12:H28) -> 4872 | I29: =SUM(I12:I28) -> 174 | J29: =SUM(J12:J28) -> 5 | ... AX29: =SUM(AX12:AX28) -> 0

Sheet Delitos
C9: RESUMEN GENERAL POR TIPO DE DELITOS INGRESADOS
C10: Total | D10: Contra la Libertad e indemnidad sexuales no VG | E10: Mutilación Genital | F10: Matrimonio Forzado | G10: Acoso con connotación sexual | H10: Trata para la explotación sexual
B11: Andalucía | C11: 555 | D11: 537 | E11: 0 | F11: 0 | G11: 13 | H11: 5
B12: Aragón | C12: 87 | D12: 85 | E12: 0 | F12: 0 | G12: 0 | H12: 2
B13: Asturias | C13: 70 | D13: 70 | E13: 0 | F13: 0 | G13: 0 | H13: 0
B14: Illes Balears | C14: 187 | D14: 184 | E14: 0 | F14: 0 | G14: 3 | H14: 0
B15: Canarias | C15: 302 | D15: 270 | E15: 0 | F15: 0 | G15: 32 | H15: 0
B16: Cantabria | C16: 17 | D16: 17 | E16: 0 | F16: 0 | G16: 0 | H16: 0
B17: Castilla y León | C17: 114 | D17: 108 | E17: 0 | F17: 0 | G17: 6 | H17: 0
B18: Castilla-La Mancha | C18: 88 | D18: 81 | E18: 0 | F18: 0 | G18: 6 | H18: 1
B19: Cataluña | C19: 959 | D19: 846 | E19: 0 | F19: 0 | G19: 106 | H19: 7
B20: Comunitat Valenciana | C20: 499 | D20: 483 | E20: 0 | F20: 0 | G20: 13 | H20: 3
B21: Extremadura | C21: 54 | D21: 49 | E21: 0 | F21: 0 | G21: 5 | H21: 0
B22: Galicia | C22: 250 | D22: 247 | E22: 0 | F22: 0 | G22: 2 | H22: 1
... B27: La Rioja | C27: 19 | D27: 19 | E27: 0 | F27: 0 | G27: 0 | H27: 0
B28: España | C28: =SUM(C11:C27) -> 4448 | D28: =SUM(D11:D27) -> 4190 | E28: =SUM(E11:E27) -> 0 | F28: =SUM(F11:F27) -> 0 | G28: =SUM(G11:G27) -> 232 | H28: =SUM(H11:H27) -> 26

Sheet Órdenes y Medidas
C9: 2º trimestre 2026
C10: Incoadas | D10: Inadmitidas | E10: Adoptadas | F10: Denegadas
B11: Andalucía | C11: 97 | D11: 0 | E11: 89 | F11: 8
B12: Aragón | C12: 19 | D12: 0 | E12: 18 | F12: 1
B13: Asturias | C13: 6 | D13: 0 | E13: 6 | F13: 0
B14: Illes Balears | C14: 26 | D14: 0 | E14: 20 | F14: 6
B15: Canarias | C15: 57 | D15: 0 | E15: 50 | F15: 7
B16: Cantabria | C16: 1 | D16: 0 | E16: 1 | F16: 0
B17: Castilla y León | C17: 36 | D17: 0 | E17: 35 | F17: 1
B18: Castilla-La Mancha | C18: 20 | D18: 0 | E18: 20 | F18: 0
B19: Cataluña | C19: 134 | D19: 4 | E19: 66 | F19: 64
B20: Comunitat Valenciana | C20: 87 | D20: 0 | E20: 70 | F20: 17
B21: Extremadura | C21: 10 | D21: 0 | E21: 8 | F21: 2
B22: Galicia | C22: 25 | D22: 0 | E22: 21 | F22: 4
... B27: La Rioja | C27: 8 | D27: 0 | E27: 7 | F27: 1
B28: España | C28: =SUM(C11:C27) -> 711 | D28: =SUM(D11:D27) -> 6 | E28: =SUM(E11:E27) -> 536 | F28: =SUM(F11:F27) -> 169

Sheet Personas Enjuiciadas
C9: 2º trimestre 2026
C10: Numero | D10: Condenado Español | E10: Condenado Extranjero | F10: Absuelto Español | G10: Absuelto Extranjero
B11: Andalucía | C11: 8 | D11: 7 | E11: 1 | F11: 0 | G11: 0
B12: Aragón | C12: 0 | D12: 0 | E12: 0 | F12: 0 | G12: 0
B13: Asturias | C13: 0 | D13: 0 | E13: 0 | F13: 0 | G13: 0
B14: Illes Balears | C14: 12 | D14: 8 | E14: 4 | F14: 0 | G14: 0
B15: Canarias | C15: 8 | D15: 6 | E15: 1 | F15: 0 | G15: 1
B16: Cantabria | C16: 0 | D16: 0 | E16: 0 | F16: 0 | G16: 0
B17: Castilla y León | C17: 2 | D17: 1 | E17: 0 | F17: 1 | G17: 0
B18: Castilla-La Mancha | C18: 3 | D18: 3 | E18: 0 | F18: 0 | G18: 0
B19: Cataluña | C19: 6 | D19: 3 | E19: 3 | F19: 0 | G19: 0
B20: Comunitat Valenciana | C20: 13 | D20: 10 | E20: 3 | F20: 0 | G20: 0
B21: Extremadura | C21: 2 | D21: 2 | E21: 0 | F21: 0 | G21: 0
B22: Galicia | C22: 0 | D22: 0 | E22: 0 | F22: 0 | G22: 0
... B27: La Rioja | C27: 0 | D27: 0 | E27: 0 | F27: 0 | G27: 0
B28: España | C28: =SUM(C11:C27) -> 74 | D28: =SUM(D11:D27) -> 52 | E28: =SUM(E11:E27) -> 19 | F28: =SUM(F11:F27) -> 1 | G28: =SUM(G11:G27) -> 2

Sheet Terminación
C9: 2º Trimestre de 2026
C10: Por Sentencia | E10: Por Sobreseimiento | G10: Elevación al órgano competente | H10: Otras formas de terminación
C11: Absolutoria | D11: Condenatoria | E11: Libre | F11: Provisional | I11: sentencias y autos resto | J11: incidentes 241 | K11: Total
B12: Andalucía | C12: 0 | D12: 8 | E12: 6 | F12: 114 | G12: 30 | H12: 260 | I12: 0 | J12: 0 | K12: =I12-J12+G12 -> 30
B13: Aragón | C13: 0 | D13: 0 | E13: 5 | F13: 27 | G13: 3 | H13: 49 | I13: 0 | J13: 0 | K13: =I13-J13+G13 -> 3
B14: Asturias | C14: 0 | D14: 0 | E14: 0 | F14: 17 | G14: 1 | H14: 25 | I14: 0 | J14: 0 | K14: =I14-J14+G14 -> 1
B15: Illes Balears | C15: 0 | D15: 12 | E15: 1 | F15: 51 | G15: 3 | H15: 34 | I15: 0 | J15: 0 | K15: =I15-J15+G15 -> 3
B16: Canarias | C16: 1 | D16: 7 | E16: 3 | F16: 86 | G16: 3 | H16: 141 | I16: 0 | J16: 0 | K16: =I16-J16+G16 -> 3
B17: Cantabria | C17: 0 | D17: 0 | E17: 0 | F17: 5 | G17: 0 | H17: 8 | I17: 0 | J17: 0 | K17: =I17-J17+G17 -> 0
B18: Castilla y León | C18: 1 | D18: 1 | E18: 0 | F18: 30 | G18: 18 | H18: 80 | I18: 0 | J18: 0 | K18: =I18-J18+G18 -> 18
B19: Castilla-La Mancha | C19: 0 | D19: 3 | E19: 0 | F19: 15 | G19: 6 | H19: 33 | I19: 0 | J19: 0 | K19: =I19-J19+G19 -> 6
B20: Cataluña | C20: 0 | D20: 6 | E20: 7 | F20: 213 | G20: 40 | H20: 226 | I20: 0 | J20: 0 | K20: =I20-J20+G20 -> 40
B21: Comunitat Valenciana | C21: 0 | D21: 13 | E21: 2 | F21: 109 | G21: 12 | H21: 203 | I21: 0 | J21: 0 | K21: =I21-J21+G21 -> 12
B22: Extremadura | C22: 0 | D22: 2 | E22: 0 | F22: 5 | G22: 6 | H22: 28 | I22: 0 | J22: 0 | K22: =I22-J22+G22 -> 6
B23: Galicia | C23: 0 | D23: 0 | E23: 0 | F23: 55 | G23: 11 | H23: 71 | I23: 0 | J23: 0 | K23: =I23-J23+G23 -> 11
... B28: La Rioja | C28: 0 | D28: 0 | E28: 0 | F28: 4 | G28: 0 | H28: 1 | I28: 0 | J28: 0 | K28: =I28-J28+G28 -> 0
B29: España | C29: =SUM(C12:C28) -> 3 | D29: =SUM(D12:D28) -> 71 | E29: =SUM(E12:E28) -> 35 | F29: =SUM(F12:F28) -> 983 | G29: =SUM(G12:G28) -> 182 | H29: =SUM(H12:H28) -> 1799 | I29: =SUM(I12:I28) -> 0 | J29: =SUM(J12:J28) -> 0 | K29: =I29-J29+G29 -> 182

Sheet Penal_Movimientos_TSJ
C9: 2º Trimestre 2026
C10: Asuntos Total | D10: Procedimientos Abreviados | E10: Diligencias Urgentes
B11: Andalucía | C11: 31 | D11: 29 | E11: 2
B12: Aragón | C12: 12 | D12: 9 | E12: 3
B13: Asturias | C13: 15 | D13: 14 | E13: 1
B14: Illes Balears | C14: 12 | D14: 11 | E14: 1
B15: Canarias | C15: 3 | D15: 2 | E15: 1
B16: Cantabria | C16: 6 | D16: 6 | E16: 0
B17: Castilla y León | C17: 18 | D17: 16 | E17: 2
B18: Castilla-La Mancha | C18: 4 | D18: 3 | E18: 1
B19: Cataluña | C19: 78 | D19: 76 | E19: 2
B20: Comunitat Valenciana | C20: 56 | D20: 48 | E20: 8
B21: Extremadura | C21: 7 | D21: 7 | E21: 0
B22: Galicia | C22: 15 | D22: 15 | E22: 0
... B28: Total | C28: 346 | D28: 319 | E28: 27

Sheet Jdos Penal_Personas Enjuiciadas
C9: Varones | H9: Mujeres | M9: Total
C10: Número | D10: Condenado Español | E10: Condenado Extranjero | F10: Absuelto Español | G10: Absuelto Extranjero | H10: Número | I10: Condenado Español | J10: Condenado Extranjero | K10: Absuelto Español | L10: Absuelto Extranjero | M10: Número | N10: Condenado Español | O10: Condenado Extranjero | P10: Absuelto Español | Q10: Absuelto Extranjero
B11: Andalucía | C11: 14 | D11: 11 | E11: 1 | F11: 1 | G11: 1 | H11: 0 | I11: 0 | J11: 0 | K11: 0 | L11: 0 | M11: 14 | N11: 11 | O11: 1 | P11: 1 | Q11: 1
B12: Aragón | C12: 7 | D12: 1 | E12: 4 | F12: 1 | G12: 1 | H12: 0 | I12: 0 | J12: 0 | K12: 0 | L12: 0 | M12: 7 | N12: 1 | O12: 4 | P12: 1 | Q12: 1
B13: Asturias | C13: 4 | D13: 1 | E13: 1 | F13: 1 | G13: 1 | H13: 0 | I13: 0 | J13: 0 | K13: 0 | L13: 0 | M13: 4 | N13: 1 | O13: 1 | P13: 1 | Q13: 1
B14: Illes Balears | C14: 9 | D14: 6 | E14: 3 | F14: 0 | G14: 0 | H14: 0 | I14: 0 | J14: 0 | K14: 0 | L14: 0 | M14: 9 | N14: 6 | O14: 3 | P14: 0 | Q14: 0
B15: Canarias | C15: 5 | D15: 4 | E15: 0 | F15: 0 | G15: 1 | H15: 0 | I15: 0 | J15: 0 | K15: 0 | L15: 0 | M15: 5 | N15: 4 | O15: 0 | P15: 0 | Q15: 1
B16: Cantabria | C16: 3 | D16: 1 | E16: 2 | F16: 0 | G16: 0 | H16: 0 | I16: 0 | J16: 0 | K16: 0 | L16: 0 | M16: 3 | N16: 1 | O16: 2 | P16: 0 | Q16: 0
B17: Castilla y León | C17: 11 | D17: 5 | E17: 6 | F17: 0 | G17: 0 | H17: 0 | I17: 0 | J17: 0 | K17: 0 | L17: 0 | M17: 11 | N17: 5 | O17: 6 | P17: 0 | Q17: 0
B18: Castilla-La Mancha | C18: 6 | D18: 5 | E18: 1 | F18: 0 | G18: 0 | H18: 0 | I18: 0 | J18: 0 | K18: 0 | L18: 0 | M18: 6 | N18: 5 | O18: 1 | P18: 0 | Q18: 0
B19: Cataluña | C19: 42 | D19: 12 | E19: 23 | F19: 4 | G19: 3 | H19: 0 | I19: 0 | J19: 0 | K19: 0 | L19: 0 | M19: 42 | N19: 12 | O19: 23 | P19: 4 | Q19: 3
B20: Comunitat Valenciana | C20: 30 | D20: 20 | E20: 7 | F20: 3 | G20: 0 | H20: 1 | I20: 0 | J20: 0 | K20: 1 | L20: 0 | M20: 31 | N20: 20 | O20: 7 | P20: 4 | Q20: 0
B21: Extremadura | C21: 6 | D21: 5 | E21: 1 | F21: 0 | G21: 0 | H21: 0 | I21: 0 | J21: 0 | K21: 0 | L21: 0 | M21: 6 | N21: 5 | O21: 1 | P21: 0 | Q21: 0
B22: Galicia | C22: 11 | D22: 4 | E22: 3 | F22: 4 | G22: 0 | H22: 0 | I22: 0 | J22: 0 | K22: 0 | L22: 0 | M22: 11 | N22: 4 | O22: 3 | P22: 4 | Q22: 0
... B28: España | C28: 197 | D28: 90 | E28: 75 | F28: 20 | G28: 12 | H28: 2 | I28: 0 | J28: 1 | K28: 1 | L28: 0 | M28: 199 | N28: 90 | O28: 76 | P28: 21 | Q28: 12

Sheet Jdos Penal_Sentencias
C9: 2º trimestre 2026 | G9: Archivo Definitivo | H9: Por Otras causas
C10: Total Condenatorias | D10: Previa Conformidad | E10: Restantes Condenatorias | F10: Absolutorias
B11: Andalucía | C11: =SUM(D11:E11) -> 12 | D11: 9 | E11: 3 | F11: 2 | G11: 0 | H11: 1
B12: Aragón | C12: =SUM(D12:E12) -> 5 | D12: 2 | E12: 3 | F12: 2 | G12: 0 | H12: 0
B13: Asturias | C13: =SUM(D13:E13) -> 2 | D13: 1 | E13: 1 | F13: 2 | G13: 0 | H13: 1
B14: Illes Balears | C14: =SUM(D14:E14) -> 9 | D14: 6 | E14: 3 | F14: 0 | G14: 0 | H14: 0
B15: Canarias | C15: =SUM(D15:E15) -> 4 | D15: 3 | E15: 1 | F15: 1 | G15: 0 | H15: 0
B16: Cantabria | C16: =SUM(D16:E16) -> 3 | D16: 3 | E16: 0 | F16: 0 | G16: 0 | H16: 0
B17: Castilla y León | C17: =SUM(D17:E17) -> 11 | D17: 9 | E17: 2 | F17: 0 | G17: 0 | H17: 0
B18: Castilla-La Mancha | C18: =SUM(D18:E18) -> 6 | D18: 4 | E18: 2 | F18: 0 | G18: 0 | H18: 0
B19: Cataluña | C19: =SUM(D19:E19) -> 35 | D19: 22 | E19: 13 | F19: 7 | G19: 0 | H19: 1
B20: Comunitat Valenciana | C20: =SUM(D20:E20) -> 27 | D20: 19 | E20: 8 | F20: 4 | G20: 1 | H20: 2
B21: Extremadura | C21: =SUM(D21:E21) -> 6 | D21: 5 | E21: 1 | F21: 0 | G21: 0 | H21: 0
B22: Galicia | C22: =SUM(D22:E22) -> 7 | D22: 3 | E22: 4 | F22: 4 | G22: 0 | H22: 0
... B27: La Rioja | C27: =SUM(D27:E27) -> 0 | D27: 0 | E27: 0 | F27: 0 | G27: 0 | H27: 0
B28: España | C28: =SUM(C11:C27) -> 166 | D28: =SUM(D11:D27) -> 106 | E28: =SUM(E11:E27) -> 60 | F28: =SUM(F11:F27) -> 33 | G28: =SUM(G11:G27) -> 2 | H28: =SUM(H11:H27) -> 7

Sheet Jdos Guardia_Asuntos
C13: 2º trimestre 2026
C14: Asuntos ingresados | D14: Con medidas | F14: Sin medidas | G14: Remitidas a la Secc. V.S.M del T.I. | H14: Pendientes final trimestre
D15: De O.P. | E15: De Resto
B16: Andalucía | C16: 21 | D16: 3 | E16: 7 | F16: 11 | G16: 21 | H16: 0
B17: Aragón | C17: 0 | D17: 0 | E17: 0 | F17: 0 | G17: 0 | H17: 0
B18: Asturias | C18: 8 | D18: 2 | E18: 0 | F18: 6 | G18: 8 | H18: 0
B19: Illes Balears | C19: 8 | D19: 1 | E19: 1 | F19: 6 | G19: 6 | H19: 2
B20: Canarias | C20: 14 | D20: 4 | E20: 1 | F20: 9 | G20: 14 | H20: 0
B21: Cantabria | C21: 1 | D21: 1 | E21: 0 | F21: 0 | G21: 1 | H21: 0
B22: Castilla y León | C22: 15 | D22: 1 | E22: 0 | F22: 14 | G22: 15 | H22: 0
B23: Castilla-La Mancha | C23: 12 | D23: 5 | E23: 1 | F23: 6 | G23: 12 | H23: 0
B24: Cataluña | C24: 47 | D24: 14 | E24: 0 | F24: 33 | G24: 47 | H24: 0
B25: Comunitat Valenciana | C25: 9 | D25: 5 | E25: 4 | F25: 0 | G25: 7 | H25: 2
B26: Extremadura | C26: 7 | D26: 0 | E26: 1 | F26: 6 | G26: 7 | H26: 0
B27: Galicia | C27: 29 | D27: 6 | E27: 6 | F27: 17 | G27: 29 | H27: 0
... B32: La Rioja | C32: 2 | D32: 0 | E32: 0 | F32: 2 | G32: 2 | H32: 0
B33: España | C33: =SUM(C16:C32) -> 237 | D33: =SUM(D16:D32) -> 56 | E33: =SUM(E16:E32) -> 27 | F33: =SUM(F16:F32) -> 154 | G33: =SUM(G16:G32) -> 233 | H33: =SUM(H16:H32) -> 4

Sheet Jdos Guardia_Órdenes Protección
C14: 2º trimestre 2026
C15: Total Órdenes Protección | D15: Acordadas | E15: Denegadas
B16: Andalucía | C16: 3 | D16: 3 | E16: 0
B17: Aragón | C17: 0 | D17: 0 | E17: 0
B18: Asturias | C18: 2 | D18: 1 | E18: 1
B19: Illes Balears | C19: 1 | D19: 1 | E19: 0
B20: Canarias | C20: 4 | D20: 4 | E20: 0
B21: Cantabria | C21: 1 | D21: 1 | E21: 0
B22: Castilla y León | C22: 1 | D22: 1 | E22: 0
B23: Castilla-La Mancha | C23: 5 | D23: 5 | E23: 0
B24: Cataluña | C24: 14 | D24: 11 | E24: 3
B25: Comunitat Valenciana | C25: 5 | D25: 4 | E25: 1
B26: Extremadura | C26: 0 | D26: 0 | E26: 0
B27: Galicia | C27: 6 | D27: 4 | E27: 2
... B32: La Rioja | C32: 0 | D32: 0 | E32: 0
B33: España | C33: =SUM(C16:C32) -> 56 | D33: =SUM(D16:D32) -> 44 | E33: =SUM(E16:E32) -> 12

Sheet Audiencias_Pers Enjuiciadas
C9: Varones | H9: Mujeres | M9: TOTAL
C10: Total | D10: Condenado Español | E10: Condenado Extranjero | F10: Absuelto Español | G10: Absuelto Extranjero | H10: Total | I10: Condenada Española | J10: Condenada Extranjera | K10: Absuelta Española | L10: Absuelta Extranjera | M10: Total | N10: Condenado Español | O10: Condenado Extranjero | P10: Absuelto Español | Q10: Absuelto Extranjero
B11: Andalucía | C11: 12 | D11: 5 | E11: 2 | F11: 4 | G11: 1 | H11: 0 | I11: 0 | J11: 0 | K11: 0 | L11: 0 | M11: 12 | N11: 5 | O11: 2 | P11: 4 | Q11: 1
B12: Aragón | C12: 0 | D12: 0 | E12: 0 | F12: 0 | G12: 0 | H12: 0 | I12: 0 | J12: 0 | K12: 0 | L12: 0 | M12: 0 | N12: 0 | O12: 0 | P12: 0 | Q12: 0
B13: Asturias | C13: 0 | D13: 0 | E13: 0 | F13: 0 | G13: 0 | H13: 0 | I13: 0 | J13: 0 | K13: 0 | L13: 0 | M13: 0 | N13: 0 | O13: 0 | P13: 0 | Q13: 0
B14: Illes Balears | C14: 0 | D14: 0 | E14: 0 | F14: 0 | G14: 0 | H14: 0 | I14: 0 | J14: 0 | K14: 0 | L14: 0 | M14: 0 | N14: 0 | O14: 0 | P14: 0 | Q14: 0
B15: Canarias | C15: 0 | D15: 0 | E15: 0 | F15: 0 | G15: 0 | H15: 0 | I15: 0 | J15: 0 | K15: 0 | L15: 0 | M15: 0 | N15: 0 | O15: 0 | P15: 0 | Q15: 0
B16: Cantabria | C16: 0 | D16: 0 | E16: 0 | F16: 0 | G16: 0 | H16: 0 | I16: 0 | J16: 0 | K16: 0 | L16: 0 | M16: 0 | N16: 0 | O16: 0 | P16: 0 | Q16: 0
B17: Castilla y León | C17: 4 | D17: 2 | E17: 1 | F17: 1 | G17: 0 | H17: 0 | I17: 0 | J17: 0 | K17: 0 | L17: 0 | M17: 4 | N17: 2 | O17: 1 | P17: 1 | Q17: 0
B18: Castilla-La Mancha | C18: 4 | D18: 0 | E18: 4 | F18: 0 | G18: 0 | H18: 0 | I18: 0 | J18: 0 | K18: 0 | L18: 0 | M18: 4 | N18: 0 | O18: 4 | P18: 0 | Q18: 0
B19: Cataluña | C19: 1 | D19: 0 | E19: 0 | F19: 1 | G19: 0 | H19: 0 | I19: 0 | J19: 0 | K19: 0 | L19: 0 | M19: 1 | N19: 0 | O19: 0 | P19: 1 | Q19: 0
B20: Comunitat Valenciana | C20: 1 | D20: 0 | E20: 0 | F20: 1 | G20: 0 | H20: 1 | I20: 0 | J20: 1 | K20: 0 | L20: 0 | M20: 2 | N20: 0 | O20: 1 | P20: 1 | Q20: 0
B21: Extremadura | C21: 0 | D21: 0 | E21: 0 | F21: 0 | G21: 0 | H21: 0 | I21: 0 | J21: 0 | K21: 0 | L21: 0 | M21: 0 | N21: 0 | O21: 0 | P21: 0 | Q21: 0
B22: Galicia | C22: 10 | D22: 4 | E22: 3 | F22: 3 | G22: 0 | H22: 0 | I22: 0 | J22: 0 | K22: 0 | L22: 0 | M22: 10 | N22: 4 | O22: 3 | P22: 3 | Q22: 0
... B27: La Rioja | C27: 0 | D27: 0 | E27: 0 | F27: 0 | G27: 0 | H27: 0 | I27: 0 | J27: 0 | K27: 0 | L27: 0 | M27: 0 | N27: 0 | O27: 0 | P27: 0 | Q27: 0
B28: España | C28: =SUM(C11:C27) -> 68 | D28: =SUM(D11:D27) -> 24 | E28: =SUM(E11:E27) -> 22 | F28: =SUM(F11:F27) -> 13 | G28: =SUM(G11:G27) -> 9 | H28: =SUM(H11:H27) -> 1 | I28: =SUM(I11:I27) -> 0 | J28: =SUM(J11:J27) -> 1 | ... Q28: =SUM(Q11:Q27) -> 9

Sheet Audiencias_Sentencias
C9: 2º trimestre 2026 | K9: 2º trimestre 2026
C10: Sentencias Condenatorias | G10: Sentencias Absolutorias | K10: Total Sentencias
C11: Total | D11: Sumarios | E11: Procd. Abreviados | F11: Procd. Jurado | G11: Total | H11: Sumarios | I11: Procd. Abreviados | J11: Procd. Jurado | K11: Total | L11: Sumarios | M11: Procd. Abreviados | N11: Procd. Jurado
B12: Andalucía | C12: 7 | D12: 7 | E12: 0 | F12: 0 | G12: 5 | H12: 4 | I12: 1 | J12: 0 | K12: =SUM(L12:N12) -> 12 | L12: =SUM(D12,H12) -> 11 | M12: =SUM(E12,I12) -> 1 | N12: =SUM(F12,J12) -> 0
B13: Aragón | C13: 1 | D13: 0 | E13: 1 | F13: 0 | G13: 0 | H13: 0 | I13: 0 | J13: 0 | K13: =SUM(L13:N13) -> 1 | L13: =SUM(D13,H13) -> 0 | M13: =SUM(E13,I13) -> 1 | N13: =SUM(F13,J13) -> 0
B14: Asturias | C14: 0 | D14: 0 | E14: 0 | F14: 0 | G14: 0 | H14: 0 | I14: 0 | J14: 0 | K14: =SUM(L14:N14) -> 0 | L14: =SUM(D14,H14) -> 0 | M14: =SUM(E14,I14) -> 0 | N14: =SUM(F14,J14) -> 0
B15: Illes Balears | C15: 0 | D15: 0 | E15: 0 | F15: 0 | G15: 0 | H15: 0 | I15: 0 | J15: 0 | K15: =SUM(L15:N15) -> 0 | L15: =SUM(D15,H15) -> 0 | M15: =SUM(E15,I15) -> 0 | N15: =SUM(F15,J15) -> 0
B16: Canarias | C16: 0 | D16: 0 | E16: 0 | F16: 0 | G16: 0 | H16: 0 | I16: 0 | J16: 0 | K16: =SUM(L16:N16) -> 0 | L16: =SUM(D16,H16) -> 0 | M16: =SUM(E16,I16) -> 0 | N16: =SUM(F16,J16) -> 0
B17: Cantabria | C17: 0 | D17: 0 | E17: 0 | F17: 0 | G17: 0 | H17: 0 | I17: 0 | J17: 0 | K17: =SUM(L17:N17) -> 0 | L17: =SUM(D17,H17) -> 0 | M17: =SUM(E17,I17) -> 0 | N17: =SUM(F17,J17) -> 0
B18: Castilla y León | C18: 8 | D18: 4 | E18: 4 | F18: 0 | G18: 3 | H18: 1 | I18: 2 | J18: 0 | K18: =SUM(L18:N18) -> 11 | L18: =SUM(D18,H18) -> 5 | M18: =SUM(E18,I18) -> 6 | N18: =SUM(F18,J18) -> 0
B19: Castilla-La Mancha | C19: 0 | D19: 0 | E19: 0 | F19: 0 | G19: 0 | H19: 0 | I19: 0 | J19: 0 | K19: =SUM(L19:N19) -> 0 | L19: =SUM(D19,H19) -> 0 | M19: =SUM(E19,I19) -> 0 | N19: =SUM(F19,J19) -> 0
B20: Cataluña | C20: 0 | D20: 0 | E20: 0 | F20: 0 | G20: 0 | H20: 0 | I20: 0 | J20: 0 | K20: =SUM(L20:N20) -> 0 | L20: =SUM(D20,H20) -> 0 | M20: =SUM(E20,I20) -> 0 | N20: =SUM(F20,J20) -> 0
B21: Comunitat Valenciana | C21: 1 | D21: 0 | E21: 1 | F21: 0 | G21: 1 | H21: 1 | I21: 0 | J21: 0 | K21: =SUM(L21:N21) -> 2 | L21: =SUM(D21,H21) -> 1 | M21: =SUM(E21,I21) -> 1 | N21: =SUM(F21,J21) -> 0
B22: Extremadura | C22: 0 | D22: 0 | E22: 0 | F22: 0 | G22: 0 | H22: 0 | I22: 0 | J22: 0 | K22: =SUM(L22:N22) -> 0 | L22: =SUM(D22,H22) -> 0 | M22: =SUM(E22,I22) -> 0 | N22: =SUM(F22,J22) -> 0
B23: Galicia | C23: 7 | D23: 7 | E23: 0 | F23: 0 | G23: 3 | H23: 3 | I23: 0 | J23: 0 | K23: =SUM(L23:N23) -> 10 | L23: =SUM(D23,H23) -> 10 | M23: =SUM(E23,I23) -> 0 | N23: =SUM(F23,J23) -> 0
... B28: La Rioja | C28: 0 | D28: 0 | E28: 0 | F28: 0 | G28: 0 | H28: 0 | I28: 0 | J28: 0 | K28: =SUM(L28:N28) -> 0 | L28: =SUM(D28,H28) -> 0 | M28: =SUM(E28,I28) -> 0 | N28: =SUM(F28,J28) -> 0
B29: Total | C29: =SUM(C12:C28) -> 57 | D29: =SUM(D12:D28) -> 31 | E29: =SUM(E12:E28) -> 26 | F29: =SUM(F12:F28) -> 0 | G29: =SUM(G12:G28) -> 22 | H29: =SUM(H12:H28) -> 18 | I29: =SUM(I12:I28) -> 4 | J29: =SUM(J12:J28) -> 0 | ... N29: =SUM(N12:N28) -> 0
